BEGIN:VCALENDAR
VERSION:2.0
PRODID:-//Gemeinschaftsschule am Brutkamp
CALSCALE:GREGORIAN
METHOD:PUBLISH
X-WR-CALNAME:Gemeinschaftsschule am Brutkamp
X-ORIGINAL-URL:https://www.gemeinschaftsschule-am-brutkamp.de/event/wanderwerkstatt-voegel-im-nationalpark-wattenmeer/
X-WR-CALDESC:Wanderwerkstatt &#8222;Vögel im Nationalpark Wattenmeer&#8220;
BEGIN:VEVENT
DTSTART:20230315T000000
DTEND:20230503T000000
SUMMARY:Wanderwerkstatt &#8222;Vögel im Nationalpark Wattenmeer&#8220;
DESCRIPTION:
LOCATION:
END:VEVENT
END:VCALENDAR
